BEGIN:VCALENDAR
VERSION:2.0
PRODID:-//Berlin NVC - ECPv6.8.3//NONSGML v1.0//EN
CALSCALE:GREGORIAN
METHOD:PUBLISH
X-ORIGINAL-URL:https://berlin-nvc.org
X-WR-CALDESC:Events for Berlin NVC
REFRESH-INTERVAL;VALUE=DURATION:PT1H
X-Robots-Tag:noindex
X-PUBLISHED-TTL:PT1H
BEGIN:VTIMEZONE
TZID:Europe/Berlin
BEGIN:DAYLIGHT
TZOFFSETFROM:+0100
TZOFFSETTO:+0200
TZNAME:CEST
DTSTART:20230326T010000
END:DAYLIGHT
BEGIN:STANDARD
TZOFFSETFROM:+0200
TZOFFSETTO:+0100
TZNAME:CET
DTSTART:20231029T010000
END:STANDARD
END:VTIMEZONE
BEGIN:VEVENT
DTSTART;TZID=Europe/Berlin:20231127T190000
DTEND;TZID=Europe/Berlin:20231127T210000
DTSTAMP:20260420T053135
CREATED:20231025T184848Z
LAST-MODIFIED:20231122T112513Z
UID:806-1701111600-1701118800@berlin-nvc.org
SUMMARY:NVC LIVE Practice Session
DESCRIPTION:In this practice session we invite a participant to share a real conflict\, argument\, misunderstanding or situation with the group. \nTogether we can practice Nonviolent Communication\, guess Feelings and Needs and let the Beauty of NVC unfold!!! \nIf you would like to be super prepared then click on this link to download a list of FEELINGS and NEEDS. \n  \nJoin Zoom Meeting \nhttps://us02web.zoom.us/j/5729439403?pwd=S3VTV0tqOG9LSHRmR2cwVUkxZE9TUT09 \nMeeting ID: 572 943 9403 \nPasscode: 335964
URL:https://berlin-nvc.org/event/nvc-live-practice-session-28/
LOCATION:Zoom online
ATTACH;FMTTYPE=image/jpeg:https://berlin-nvc.org/wp-content/uploads/2022/11/wintersunset.jpg
END:VEVENT
END:VCALENDAR