BEGIN:VCALENDAR
VERSION:2.0
PRODID:-//Berlin NVC - ECPv6.8.3//NONSGML v1.0//EN
CALSCALE:GREGORIAN
METHOD:PUBLISH
X-ORIGINAL-URL:https://berlin-nvc.org
X-WR-CALDESC:Events for Berlin NVC
REFRESH-INTERVAL;VALUE=DURATION:PT1H
X-Robots-Tag:noindex
X-PUBLISHED-TTL:PT1H
BEGIN:VTIMEZONE
TZID:Europe/Berlin
BEGIN:DAYLIGHT
TZOFFSETFROM:+0100
TZOFFSETTO:+0200
TZNAME:CEST
DTSTART:20240331T010000
END:DAYLIGHT
BEGIN:STANDARD
TZOFFSETFROM:+0200
TZOFFSETTO:+0100
TZNAME:CET
DTSTART:20241027T010000
END:STANDARD
END:VTIMEZONE
BEGIN:VEVENT
DTSTART;TZID=Europe/Berlin:20240311T190000
DTEND;TZID=Europe/Berlin:20240311T210000
DTSTAMP:20260420T003442
CREATED:20240223T131318Z
LAST-MODIFIED:20240223T131318Z
UID:843-1710183600-1710190800@berlin-nvc.org
SUMMARY:Discussion group - Nonjudgment
DESCRIPTION:What is nonjudgment? \nIs it something worth striving for? \nIs it really possible to attain? \nWhat are the difficulties behind nonjudgment? \nHow can I better practice nonjudgment? \n  \nInviting you to share your thoughts and discuss together. \n  \nJoin Zoom Meeting \nhttps://us02web.zoom.us/j/5729439403?pwd=S3VTV0tqOG9LSHRmR2cwVUkxZE9TUT09 \nMeeting ID: 572 943 9403 \nPasscode: 335964
URL:https://berlin-nvc.org/event/discussion-group-nonjudgment-2/
LOCATION:Zoom online
ATTACH;FMTTYPE=image/webp:https://berlin-nvc.org/wp-content/uploads/2023/08/Judging-machine.webp
END:VEVENT
END:VCALENDAR