BEGIN:VCALENDAR
VERSION:2.0
PRODID:-//Berlin NVC - ECPv6.8.3//NONSGML v1.0//EN
CALSCALE:GREGORIAN
METHOD:PUBLISH
X-WR-CALNAME:Berlin NVC
X-ORIGINAL-URL:https://berlin-nvc.org
X-WR-CALDESC:Events for Berlin NVC
REFRESH-INTERVAL;VALUE=DURATION:PT1H
X-Robots-Tag:noindex
X-PUBLISHED-TTL:PT1H
BEGIN:VTIMEZONE
TZID:Europe/Berlin
BEGIN:DAYLIGHT
TZOFFSETFROM:+0100
TZOFFSETTO:+0200
TZNAME:CEST
DTSTART:20230326T010000
END:DAYLIGHT
BEGIN:STANDARD
TZOFFSETFROM:+0200
TZOFFSETTO:+0100
TZNAME:CET
DTSTART:20231029T010000
END:STANDARD
END:VTIMEZONE
BEGIN:VEVENT
DTSTART;TZID=Europe/Berlin:20230910T190000
DTEND;TZID=Europe/Berlin:20230910T210000
DTSTAMP:20260420T084658
CREATED:20230823T015651Z
LAST-MODIFIED:20230823T015651Z
UID:800-1694372400-1694379600@berlin-nvc.org
SUMMARY:Discussion group - Nonjudgment
DESCRIPTION:What is nonjudgment? \nIs it something worth striving for? \nIs it really possible to attain? \nWhat are the difficulties behind nonjudgment? \nHow can I better practice nonjudgment? \n  \nInviting you to share your thoughts and discuss together. \n  \nJoin Zoom Meeting \nhttps://us02web.zoom.us/j/5729439403?pwd=S3VTV0tqOG9LSHRmR2cwVUkxZE9TUT09 \nMeeting ID: 572 943 9403 \nPasscode: 335964
URL:https://berlin-nvc.org/event/nonjudgment-discussion/
LOCATION:Zoom online
ATTACH;FMTTYPE=image/webp:https://berlin-nvc.org/wp-content/uploads/2023/08/Judging-machine.webp
END:VEVENT
BEGIN:VEVENT
DTSTART;TZID=Europe/Berlin:20230925T190000
DTEND;TZID=Europe/Berlin:20230925T210000
DTSTAMP:20260420T084658
CREATED:20230822T110842Z
LAST-MODIFIED:20230822T110914Z
UID:797-1695668400-1695675600@berlin-nvc.org
SUMMARY:NVC LIVE Practice Session
DESCRIPTION:In this practice session we invite a participant to share a real conflict\, argument\, misunderstanding or situation with the group. \nTogether we can practice Nonviolent Communication\, guess Feelings and Needs and let the Beauty of NVC unfold!!! \nIf you would like to be super prepared then click on this link to download a list of FEELINGS and NEEDS. \n  \nJoin Zoom Meeting \nhttps://us02web.zoom.us/j/5729439403?pwd=S3VTV0tqOG9LSHRmR2cwVUkxZE9TUT09 \nMeeting ID: 572 943 9403 \nPasscode: 335964
URL:https://berlin-nvc.org/event/nvc-live-practice-session-26/
LOCATION:Zoom online
ATTACH;FMTTYPE=image/jpeg:https://berlin-nvc.org/wp-content/uploads/2023/08/tiergarten4_dpa.jpg
END:VEVENT
END:VCALENDAR